BEGIN:VCALENDAR
VERSION:2.0
PRODID:icalendar-ruby
CALSCALE:GREGORIAN
BEGIN:VEVENT
DTSTAMP:20181219T055939Z
UID:d8b5b961-7058-4f01-8288-63b1d5db8b40
DTSTART:20190203T195500Z
DESCRIPTION:The school office will be open during the last week of January 
 for uniform\, stationery and Chromebook administration from 9.00am until m
 id-day.
LOCATION:
SUMMARY:School Starts 4th February 2019 at 8.55am
URL:
END:VEVENT
END:VCALENDAR
